BEGIN:VCALENDAR
VERSION:2.0
PRODID:-//eventon.com NONSGML v1.0//EN
CALSCALE:GREGORIAN
METHOD:PUBLISH
BEGIN:VEVENT
UID:69e735c098c05
DTSTAMP:20260421T083056Z
DTSTART:20260501
DTEND:20260502
LOCATION:
SUMMARY:BOUJE ON THE BEACH
DESCRIPTION:Kova Welcome to Bouj on the Beach at KOVA BEACH\,  where Marbel
 la turns up the heat with rays\,  waves\,  and beats. Expect sun soaked bea
 ch vibes and nonstop feel good energy by the water\,  with the soundtrack l
 ocked in all day. Our resident DJs Jordan Valleys\,  DJ PM\,  and Ben[..]\n
 https://mymarbellaweekender.com/event-directory/bouje-on-the-beach/
URL:https://mymarbellaweekender.com/event-directory/bouje-on-the-beach/
END:VEVENT
END:VCALENDAR