BEGIN:VCALENDAR
VERSION:2.0
PRODID:-//eventon.com NONSGML v1.0//EN
CALSCALE:GREGORIAN
METHOD:PUBLISH
BEGIN:VEVENT
UID:69e725e72b29d
DTSTAMP:20260421T072319Z
DTSTART:20260531T213000Z
DTEND:20260531T170000Z
LOCATION:
SUMMARY:Marbella Anthems
DESCRIPTION:Kova Marbella Anthems is coming to KOVA BEACH Club on May 02\, 
  2026\,  bringing the best of the past\,  the present\,  and the future in 
 one nonstop beach party. Big tunes\,  big energy\,  and the kind of vibes t
 hat get the whole place moving let’s get this party started. Date:[..]\nh
 ttps://mymarbellaweekender.com/event-directory/marbella-anthems-2/
URL:https://mymarbellaweekender.com/event-directory/marbella-anthems-2/
END:VEVENT
END:VCALENDAR