BEGIN:VCALENDAR
VERSION:2.0
PRODID:-//eventon.com NONSGML v1.0//EN
CALSCALE:GREGORIAN
METHOD:PUBLISH
BEGIN:VEVENT
UID:69e75122b9a19
DTSTAMP:20260421T102746Z
DTSTART:20260502T220000Z
DTEND:20260503T215900Z
LOCATION:
SUMMARY:Marbella Athems
DESCRIPTION:Tibu Marbella Anthems brings you the best of the past\,  the pr
 esent\,  and the future at Marbella’s number one nightclub. Expect nonsto
 p party energy\,  big anthems\,  and a crowd that’s here for a proper nig
 ht out from the first track to the last. Tickets: €25 per personTicket in
 cludes: 1 free[..]\nhttps://mymarbellaweekender.com/event-directory/marbell
 a-athems/
URL:https://mymarbellaweekender.com/event-directory/marbella-athems/
END:VEVENT
END:VCALENDAR