BEGIN:VCALENDAR
VERSION:2.0
PRODID:-//eventon.com NONSGML v1.0//EN
CALSCALE:GREGORIAN
METHOD:PUBLISH
BEGIN:VEVENT
UID:69e74215e39d4
DTSTAMP:20260421T092333Z
DTSTART:20260430T220000Z
DTEND:20260501T030000Z
LOCATION:
SUMMARY:PURE
DESCRIPTION:Tibu PURE lands on April 25\,  2026 at Tibu Nightclub\,  bringi
 ng a high energy night out in Puerto Banús with a premium crowd and late n
 ight party vibes. Lock in your tickets early\,  and upgrade your night with
  VIP table reservations if you want the full experience. Date: April 25\, [
 ..]\nhttps://mymarbellaweekender.com/event-directory/pure-2/
URL:https://mymarbellaweekender.com/event-directory/pure-2/
END:VEVENT
END:VCALENDAR