BEGIN:VCALENDAR
VERSION:2.0
PRODID:-//eventon.com NONSGML v1.0//EN
CALSCALE:GREGORIAN
METHOD:PUBLISH
BEGIN:VEVENT
UID:69e72be8e62e4
DTSTAMP:20260421T074856Z
DTSTART:20260525T210000Z
DTEND:20260526T040000Z
LOCATION:
SUMMARY:NARNYA
DESCRIPTION:Tibu NARNYA lands at Tibu Nightclub on May 25\,  2026 and it’
 s not just a party it’s a state of mind. This is where house music meets 
 pure madness\,  where reality fades\,  limits disappear\,  and the only rul
 e is to lose yourself in the moment. From sunset to late night\, [..]\nhttp
 s://mymarbellaweekender.com/event-directory/narnya-2/
URL:https://mymarbellaweekender.com/event-directory/narnya-2/
END:VEVENT
END:VCALENDAR