BEGIN:VCALENDAR
VERSION:2.0
PRODID:-//eventon.com NONSGML v1.0//EN
CALSCALE:GREGORIAN
METHOD:PUBLISH
BEGIN:VEVENT
UID:69e72abcb64a8
DTSTAMP:20260421T074356Z
DTSTART:20260501T220000Z
DTEND:20260502T215900Z
LOCATION:
SUMMARY:Summer Opening White Party | Pangea Club Puerto Banús Marbella
DESCRIPTION:Pangea Marbella Celebrate the arrival of summer at the Summer O
 pening White Party at Pangea Club Puerto Banús\,  one of Marbella’s most
  iconic and exclusive nightlife venues. Set above the marina with panoramic
  views\,  Pangea is known for its elegant atmosphere\,  international crowd
 \,  and luxury rooftop energy. This highly anticipated[..]\nhttps://mymarbe
 llaweekender.com/event-directory/summer-opening-white-party-pangea-club-pue
 rto-banus-marbella/
URL:https://mymarbellaweekender.com/event-directory/summer-opening-white-party-pangea-club-puerto-banus-marbella/
END:VEVENT
END:VCALENDAR